BEGIN:VCALENDAR
VERSION:2.0
PRODID:-//nadine-naturopathe.fr - ECPv6.15.17.1//NONSGML v1.0//EN
CALSCALE:GREGORIAN
METHOD:PUBLISH
X-ORIGINAL-URL:https://nadine-naturopathe.fr
X-WR-CALDESC:Évènements pour nadine-naturopathe.fr
REFRESH-INTERVAL;VALUE=DURATION:PT1H
X-Robots-Tag:noindex
X-PUBLISHED-TTL:PT1H
BEGIN:VTIMEZONE
TZID:UTC
BEGIN:STANDARD
TZOFFSETFROM:+0000
TZOFFSETTO:+0000
TZNAME:UTC
DTSTART:20250101T000000
END:STANDARD
END:VTIMEZONE
BEGIN:VEVENT
DTSTART;TZID=UTC:20260313T150000
DTEND;TZID=UTC:20260315T110000
DTSTAMP:20260422T171712
CREATED:20260124T120346Z
LAST-MODIFIED:20260313T140326Z
UID:3576-1773414000-1773572400@nadine-naturopathe.fr
SUMMARY:Week-end Déconnexion – L’Art de Ralentir
DESCRIPTION:Normandie - Bord de mer\nWeek-end Déconnexion \nL' Art de Ralentir\nNormandie - Bord de mer\nWeek-end Déconnexion - L' Art de Ralentir\nNormandie - bord de mer\nDu vendredi 13 mars 15h au dimanche 15 mars 11h. \nUn week-end confidentiel\, dans un hôtel 4 étoiles\, pensé pour les femmes qui ressentent le besoin de ralentir\, de déposer la pression et de se recentrer\, dans un cadre sécurisant\, apaisant et haut de gamme. \n✨ Ici\, rien à prouver. \n✨ Rien à performer. \n✨ Juste le droit de souffler vraiment. \nJe prends ma placeLe cadre\nLe week-end se déroule dans un hôtel 4★ en bord de mer\, sélectionné pour : \n\nson calme\,\nson confort\,\nson atmosphère propice au lâcher-prise.\n\nLe groupe est volontairement restreint\, afin de préserver : \n\nla qualité de l’accompagnement\,\nl’intimité des échanges\,\nla profondeur de l’expérience.\n\nDu vendredi 13 mars à partir de 15h juqu'au dimanche 15 mars à 11h. \n→ Possibilité de prolonger le séjour sur place pour celles qui le souhaitent (en supplément\, à régler directement auprès de l’établissement). \n  \nL' expérience\nCe week-end est une expérience globale\, pensée comme une parenthèse de régulation du corps et du système nerveux. \nAu programme : \n\nAteliers de sophrologie\nAteliers de naturopathie\nAteliers d’aromatologie\nTemps de repos\, d’intégration et d’accès aux espaces bien-être\n\nLe rythme est fluide\, respectueux\, sans surcharge.  \nChaque pratique a du sens et s’inscrit dans une cohérence d’ensemble. \nJe prends ma placeTes accompagnantes\nPéguy Casteloot - Sophrologue\nPéguy accompagne les femmes à apaiser leur mental\, relâcher les tensions corporelles et retrouver un équilibre durable grâce à la sophrologie. \nLors de ce week-end\, elle propose : \n\nUn ateliers sophrologie + aromathérapie\nUn atelier 100% sophrologie\n\nPour aider le corps et le système nerveux à sortir du mode tension et retrouver un état de sécurité intérieure. \nPéguy Casteloot - Sophrologue\nPéguy accompagne les femmes à apaiser leur mental\, relâcher les tensions corporelles et retrouver un équilibre durable grâce à la sophrologie. \nLors de ce week-end\, elle propose : \n\nUn ateliers sophrologie + aromathérapie\nUn atelier 100% sophrologie\n\nPour aider le corps et le système nerveux à sortir du mode tension et retrouver un état de sécurité intérieure. \nNadine Rémy : Praticienne en naturopathie & en hygiène de vie\nNadine accompagne les femmes à mieux comprendre leur fonctionnement\, leur énergie\, leurs besoins physiologiques et émotionnels. \nLors de ce week-end\, elle propose : \n\nUn atelier de naturopathie et hygiène de vie accessibles et concrets\nUn atelier de réflexologie plantaire comme soutien au relâchement et à l’équilibre global.\n\nSon approche est pragmatique\, douce\, applicable au quotidien. \nNadine Rémy : Praticienne en naturopathie & en hygiène de vie\nNadine accompagne les femmes à mieux comprendre leur fonctionnement\, leur énergie\, leurs besoins physiologiques et émotionnels. \nLors de ce week-end\, elle propose : \n\nUn atelier de naturopathie et hygiène de vie accessibles et concrets\nUn atelier de réflexologie plantaire comme soutien au relâchement et à l’équilibre global.\n\nSon approche est pragmatique\, douce\, applicable au quotidien. \nUn cadre sécurisant\nTout au long du week-end : \n\nLes pratiques sont douces et progressives\,\nAucune obligation de participation active\,\nChaque femme avance à son rythme\,\nLe cadre est clair\, contenu et bienveillant.\n\n✨ Date : Le vendredi 13 mars 15h au dimanche 15 mars 11h. \n✨ Lieux : Hôtel Mercure « Le grand large » à Granville (en chambre indivuduelle). \nPour la thalasso :  Hôtel de la baie\, centre Prévital. \n✨ Tarifs : \n\nTarif standard : 1 490 €\nTarif Early Bird : 1 099 € (places limitées)\n\nLe tarif comprend : \n\nL’accompagnement sur l’ensemble du week-end\nLes ateliers de sophrologie\, naturopathie et aromatologie\nL’accès à un espace bien-être\nLes petits déjeuners\, déjeuners et dîners\nUn cadre premium et un groupe restreint\n\nTransport non inclus.  \nUn co-voiturage pourra être proposé au départ de Bretagne et de Paris. \nJe prends ma placePour qui ?\nCe week-end est fait pour toi si : \n\ntu te sens fatiguée\, sous pression\, en surcharge mentale\,\ntu as besoin de ralentir sans culpabiliser\,\ntu veux vivre une expérience de qualité\, dans un cadre confidentiel\,\ntu cherches à te recentrer durablement\, pas juste à “te détendre un peu”.\n\nSophrologie • Naturopathie • Aromatologie\nWeek-end Déconnexion\nL' Art de Ralentir\nGroupe restreint – expérience intimiste. \n Un luxe essentiel. \nUn temps pour toi. \nUn retour à l’essentiel. \nJe prends ma placeLire les conditions générales de venteSophrologie • Naturopathie • Aromatologie\nWeek-end Déconnexion\nL' Art de Ralentir\nGroupe restreint – expérience intimiste. \n Un luxe essentiel. \nUn temps pour toi. \nUn retour à l’essentiel. \nJe prends ma placeLire les conditions générales de vente
URL:https://nadine-naturopathe.fr/event/week-end-deconnexion-lart-de-ralentir/
LOCATION:Granville\, 5 Rue de la Falaise\, Granville\, 50400
ORGANIZER;CN="Nadine Remy":MAILTO:contact@nadine-naturopathe.fr
END:VEVENT
END:VCALENDAR