BEGIN:VCALENDAR
VERSION:2.0
PRODID:-//nadine-naturopathe.fr - ECPv6.15.17.1//NONSGML v1.0//EN
CALSCALE:GREGORIAN
METHOD:PUBLISH
X-WR-CALNAME:nadine-naturopathe.fr
X-ORIGINAL-URL:https://nadine-naturopathe.fr
X-WR-CALDESC:Évènements pour nadine-naturopathe.fr
REFRESH-INTERVAL;VALUE=DURATION:PT1H
X-Robots-Tag:noindex
X-PUBLISHED-TTL:PT1H
BEGIN:VTIMEZONE
TZID:UTC
BEGIN:STANDARD
TZOFFSETFROM:+0000
TZOFFSETTO:+0000
TZNAME:UTC
DTSTART:20250101T000000
END:STANDARD
END:VTIMEZONE
BEGIN:VEVENT
DTSTART;TZID=UTC:20260113T093000
DTEND;TZID=UTC:20260113T113000
DTSTAMP:20260422T200613
CREATED:20251204T134946Z
LAST-MODIFIED:20260313T140323Z
UID:3253-1768296600-1768303800@nadine-naturopathe.fr
SUMMARY:MASTERCLASS - Naturopathie & Performance – Spéciale Entrepreneurs et Leaders sous Pression - Poissy
DESCRIPTION:MASTERCLASS\nNaturopathie & Performance – Spéciale Entrepreneurs et Leaders sous Pression\nEt si c’était enfin ton moment ?\nTu donnes tout. Tu gères une équipe\, un business\, des deadlines\, des responsabilités…Mais à quel prix pour ton corps et ta clarté mentale ? \nSi tu te sens épuisé\, dispersé\, stressé… cette masterclass va te faire un bien fou. \nLes problèmes que tu connais (trop) bien : \n\nTu sens ton stress monter vite et redescendre difficilement.\nTu manques de concentration : tu passes d'une tâche à l’autre sans vraiment avancer.\nTa mémoire flanche\, tu oublies\, tu t’embrouilles.\nTu n’as plus les mêmes idées qu’avant : tu manques de créativité.\nTon alimentation devient « au feeling »… souvent déséquilibrée ou improvisée.\nTu te réveilles déjà fatigué et tu finis tes journées rincées.\n\nRésultat : tu fais plus d’efforts pour moins de résultats.Et tu le sais : ton mode de vie actuel n’est pas soutenable. \nJe prends ma place - Paiement en 1 foisJe prends ma place - Paiement en 2 fois - Choisis Klarna comme mode de paiementCette masterclass va t'aider à retrouver ton énergie et ton efficacité naturelle. \nPendant 2 heures\, tu vas découvrir comment : \n\nRéduire ta réactivité au stress pour retrouver calme et lucidité.\nBooster ton énergie sans café ni stimulants.\nAméliorer ta concentration et ton focus\, même dans les journées chargées.\nStimuler ta créativité naturellement\, même quand tu te sens “à plat”.\nMettre en place une alimentation soutenante\, adaptée aux rythmes exigeants.\nRécupérer plus rapidement pour être performant sans t’épuiser.\n\nTu vas repartir avec des outils simples\, concrets\, et applicables dès le lendemain matin. \nCette masterclass est pour toi si tu es...\n\nEntrepreneur\nCadre\nManager\nIndépendant\nProfession à forte responsabilité\, forte pression ou grande charge mentale\n\nSi ton quotidien demande de la performance\, de la clarté d’esprit et une énergie stable : cette masterclass est faite pour toi. \nJe prends ma place - Paiement en 1 foisJe prends ma place - Paiement en 2 fois - Choisis Klarna comme mode de paiementTon accompagnatrice : Nadine Rémy\nNotre bien-être est précieux\, et notre mode de vie moderne nous le rappelle chaque jour… et pourtant\, beaucoup d’entre nous en prennent si peu soin\, que ce soit par manque de temps\, par abus ou par méconnaissance. \nMon chemin de vie\, et ses multiples facettes\, m’a permis de me découvrir\, et d’aligner mes connaissances\, mes expériences\, mon savoir-faire et mon savoir-être\, avec mon envie de t’aider grâce à la naturopathie. \nAu cœur de ma pratique\, la prévention occupe une place centrale\, avant de vouloir soulager tes mots\, il est nécessaire de comprendre d'où ils viennent et ainsi apprendre à prendre soin de toi. En te guidant à travers des choix alimentaires éclairés\, des habitudes de vie conscientes et des pratiques naturelles\, nous construirons ensemble une base solide pour ton bien-être et ta vitalité. \nMon expérience professionnelle m’a prouvé que l’équilibre entre le corps et le mental est la clé d’une vie épanouissante. \nJe suis là pour t’accompagner dans ta volonté de retrouver équilibre et vitalité dans la durée\, mais aussi confiance en toi\, grâce à une approche professionnelle et naturelle de ton bien-être. \nInfos pratiques\n✨ Date : Le mardi 13 janvier 2026 ✨ De 9h30 à 11h30 (2h en présentiel)✨ Novotel Orgeval Poissy \nBonus offert : un eBook complet \nÀ la fin de la masterclass\, tu repars avec un eBook contenant : \n\nDes conseils pratiques\nDes habitudes simples à mettre en place\nDes rituels anti-stress\nUn guide pour structurer ton hygiène de vie sans t’ajouter une charge mentale\n\n✨ Tarifs : \nPaiement sécurisé en 1 fois : 120 € TTC  \nOU  \nPaiement sécurisé en 2 fois : 130 € TTC \n  \nJe prends ma place - Paiement en 1 foisJe prends ma place - Paiement en 2 fois - Choisis Klarna comme mode de paiementIls en parlent le mieux\nNadine\, entre expertise et passion...Après avoir assistée à la masterclass sur la naturopathie au service des chef.fe.s d'entreprise je suis plus que jamais déterminée à mettre mon bien être en priorité.Je compte bien imprimer l'ebook et m'en servir comme ma bible du bien être ! Merci Nadine. \nJ’ai assisté à la masterclass et j'ai été bluffé. Nadine est une vraie bouffée d’énergie et de positivité. Et son ebook est une véritable mine d’or. Il fait plus de 50 pages. J'ai jamais vu un ebook aussi complet. il couvre tout ce dont on a besoin pour intégrer des habitudes saines dans nos journées surchargées. Personnellement\, j’ai particulièrement apprécié les astuces sur l’alimentation qui m’ont déjà inspirée pour améliorer quelques recettes. Je ne fais pas souvent de reco mais là je recommande les yeux fermés ! \nSérieux\, Précision\, DéculpabilisationVoilà les mots qui me viennent quand je pense à Nadine. J'ai eu la chance d'assister à une de ses masterclass et j'en ressors avec des outils concrets et une meilleure compréhension du fonctionnement de mon corps.Mille mercis Nadine ! \nAprès avoir assisté à sa masterclass\, je peux dire sans aucun doute que Nadine connaît son sujet. Son expertise s'étend au-delà de la naturopathie et son sens de l'écoute en fait une professionnelle rassurante. J'ai beaucoup appris lors de cette masterclass et j'ai pu mettre en application le jour même. Je la recommanderai à quiconque recherche une naturopathe généreuse et passionnée. \nRéserve ta place aujourd'hui\nLes participants ressortent :✔ plus calmes✔ plus organisés✔ avec une vision claire de ce qu’ils doivent ajuster✔ et surtout… avec de l’énergie retrouvée \nNe laisse pas passer ce moment rien que pour toi. C’est le point de départ d’un vraichangement. \nPaiement sécurisé – Facture envoyée par mail \nTu veux retrouver ton énergie et performer sans t'épuiser ?\nRéserve ta place maintenant et fais un pas décisif vers ton bien-être… et vers une version plus alignée et plus puissante de toi.
URL:https://nadine-naturopathe.fr/event/masterclass-naturopathie-performance-speciale-entrepreneurs-et-leaders-sous-pression-poissy/
LOCATION:Novotel Poissy Orgeval\, 482 Rte de Quarante Sous\, Orgeval\, 78630\, France
CATEGORIES:Masterclass
ORGANIZER;CN="Nadine Remy":MAILTO:contact@nadine-naturopathe.fr
END:VEVENT
END:VCALENDAR